BEGIN:VCALENDAR
VERSION:2.0
PRODID:-//swissQPrint//Printers//ES
URL:https://www.swissqprint.com
NAME:swissQPrint
X-WR-CALNAME:swissQPrint
BEGIN:VEVENT
UID:73929a14-dac3-4c94-8ac0-aaa03a8948a5
SEQUENCE:0
DTSTAMP:20260423T174720Z
DTSTART;VALUE=DATE:20260519
DTEND;VALUE=DATE:20260522
X-MICROSOFT-CDO-ALLDAYEVENT:TRUE
X-MICROSOFT-MSNCALENDAR-ALLDAYEVENT:TRUE
SUMMARY:Fespa Global Print Expo
URL;VALUE=URI:https://www.swissqprint.com/be/es/news/events/fespa-2026
END:VEVENT
END:VCALENDAR