BEGIN:VCALENDAR
VERSION:2.0
PRODID:-//swissQPrint//Printers//JA
URL:https://www.swissqprint.com
NAME:swissQPrint
X-WR-CALNAME:swissQPrint
BEGIN:VEVENT
UID:474ec678-cbf0-4995-991a-de1c05b6b7fc
SEQUENCE:0
DTSTAMP:20260419T201725Z
DTSTART;VALUE=DATE:20260519
DTEND;VALUE=DATE:20260522
X-MICROSOFT-CDO-ALLDAYEVENT:TRUE
X-MICROSOFT-MSNCALENDAR-ALLDAYEVENT:TRUE
SUMMARY:VIP オープンハウスウィーク
URL;VALUE=URI:https://www.swissqprint.com/jp/ja/news/events/jp-open-week-2
 026
END:VEVENT
END:VCALENDAR